BEGIN:VCALENDAR
VERSION:2.0
PRODID:-//Xtreme B-Force Martial Arts - ECPv4.9.12//NONSGML v1.0//EN
CALSCALE:GREGORIAN
METHOD:PUBLISH
X-WR-CALNAME:Xtreme B-Force Martial Arts
X-ORIGINAL-URL:https://xbforcemartialarts.com.au
X-WR-CALDESC:Events for Xtreme B-Force Martial Arts
BEGIN:VTIMEZONE
TZID:UTC
BEGIN:STANDARD
TZOFFSETFROM:+0000
TZOFFSETTO:+0000
TZNAME:UTC
DTSTART:20200101T000000
END:STANDARD
END:VTIMEZONE
BEGIN:VEVENT
DTSTART;TZID=UTC:20200127T190000
DTEND;TZID=UTC:20200127T194500
DTSTAMP:20200227T011126
CREATED:20191206T153710Z
LAST-MODIFIED:20191206T153710Z
UID:1157-1580151600-1580154300@xbforcemartialarts.com.au
SUMMARY:Fitness/Muay Thai
DESCRIPTION:
URL:https://xbforcemartialarts.com.au/schedule/fitness-muay-thai/
END:VEVENT
BEGIN:VEVENT
DTSTART;TZID=UTC:20200128T190000
DTEND;TZID=UTC:20200128T194500
DTSTAMP:20200227T011126
CREATED:20191206T153746Z
LAST-MODIFIED:20191206T153832Z
UID:1159-1580238000-1580240700@xbforcemartialarts.com.au
SUMMARY:Senior Eagles
DESCRIPTION:
URL:https://xbforcemartialarts.com.au/schedule/senior-eagles-4/
END:VEVENT
BEGIN:VEVENT
DTSTART;TZID=UTC:20200129T190000
DTEND;TZID=UTC:20200129T194500
DTSTAMP:20200227T011126
CREATED:20191206T153901Z
LAST-MODIFIED:20191206T153901Z
UID:1162-1580324400-1580327100@xbforcemartialarts.com.au
SUMMARY:Fitness/Muay Thai
DESCRIPTION:
URL:https://xbforcemartialarts.com.au/schedule/fitness-muay-thai-2/
END:VEVENT
BEGIN:VEVENT
DTSTART;TZID=UTC:20200130T191500
DTEND;TZID=UTC:20200130T200000
DTSTAMP:20200227T011126
CREATED:20191206T154000Z
LAST-MODIFIED:20191206T154000Z
UID:1164-1580411700-1580414400@xbforcemartialarts.com.au
SUMMARY:Senior Sparring
DESCRIPTION:
URL:https://xbforcemartialarts.com.au/schedule/senior-sparring/
END:VEVENT
BEGIN:VEVENT
DTSTART;TZID=UTC:20200131T000000
DTEND;TZID=UTC:20200131T235900
DTSTAMP:20200227T011126
CREATED:20191206T154056Z
LAST-MODIFIED:20191206T154056Z
UID:1166-1580428800-1580515140@xbforcemartialarts.com.au
SUMMARY:Private Sessions Birthday Parties See staff for bookings
DESCRIPTION:
URL:https://xbforcemartialarts.com.au/schedule/private-sessions-birthday-parties-see-staff-for-bookings-13/
END:VEVENT
BEGIN:VEVENT
DTSTART;TZID=UTC:20200201T000000
DTEND;TZID=UTC:20200201T235900
DTSTAMP:20200227T011126
CREATED:20191206T154158Z
LAST-MODIFIED:20191206T154158Z
UID:1168-1580515200-1580601540@xbforcemartialarts.com.au
SUMMARY:Private Sessions Birthday Parties See staff for bookings
DESCRIPTION:
URL:https://xbforcemartialarts.com.au/schedule/private-sessions-birthday-parties-see-staff-for-bookings-14/
END:VEVENT
BEGIN:VEVENT
DTSTART;TZID=UTC:20200202T000000
DTEND;TZID=UTC:20200202T235900
DTSTAMP:20200227T011126
CREATED:20191206T154225Z
LAST-MODIFIED:20191206T154225Z
UID:1170-1580601600-1580687940@xbforcemartialarts.com.au
SUMMARY:Private Sessions Birthday Parties See staff for bookings
DESCRIPTION:
URL:https://xbforcemartialarts.com.au/schedule/private-sessions-birthday-parties-see-staff-for-bookings-15/
END:VEVENT
BEGIN:VEVENT
DTSTART;TZID=UTC:20200203T190000
DTEND;TZID=UTC:20200203T194500
DTSTAMP:20200227T011126
CREATED:20191206T154301Z
LAST-MODIFIED:20191206T154301Z
UID:1172-1580756400-1580759100@xbforcemartialarts.com.au
SUMMARY:Mixed Sparring
DESCRIPTION:
URL:https://xbforcemartialarts.com.au/schedule/mixed-sparring/
END:VEVENT
END:VCALENDAR